BEGIN:VCALENDAR
VERSION:2.0
PRODID:-//Squarespace Inc/Squarespace 6//v6//EN
BEGIN:VEVENT
UID:5d7dd78678e10150b4fe4050@squarespace.com
DTSTAMP:20190915T061829Z
DTSTART:20191207T033000Z
DTEND:20191207T113000Z
SUMMARY:Early Closure
END:VEVENT
END:VCALENDAR
