BEGIN:VCALENDAR
VERSION:2.0
PRODID:-//Squarespace Inc/Squarespace 6//v6//EN
BEGIN:VEVENT
UID:5d81d0e6d991f618872b44f2@squarespace.com
DTSTAMP:20190918T063918Z
DTSTART:20191006T230000Z
DTEND:20191007T000000Z
SUMMARY:School Holidays - Cupcake Decorating
END:VEVENT
END:VCALENDAR
