BEGIN:VCALENDAR
VERSION:2.0
PRODID:-//Squarespace Inc/Squarespace 6//v6//EN
BEGIN:VEVENT
UID:5cef679e5c0d4d0001f9d8c3@squarespace.com
DTSTAMP:20190530T052047Z
DTSTART:20190710T000000Z
DTEND:20190710T010000Z
SUMMARY:School Holidays - Cupcake &amp\; Chef's Hat Decorating
GEO:-41.450008;147.181053
LOCATION:Stonesthrow Launceston\, 55 Sandown Rd\, Norwood TAS 7250\, Austra
 lia
END:VEVENT
END:VCALENDAR
