BEGIN:VCALENDAR
VERSION:2.0
PRODID:-//Squarespace Inc/Squarespace 6//v6//EN
BEGIN:VEVENT
UID:5d7dd5e67e85cf79baff1440@squarespace.com
DTSTAMP:20190915T061145Z
DTSTART:20191019T033000Z
DTEND:20191019T103000Z
SUMMARY:Early Closure
END:VEVENT
END:VCALENDAR
