BEGIN:VCALENDAR
VERSION:2.0
PRODID:-//Squarespace Inc/Squarespace 6//v6//EN
BEGIN:VEVENT
UID:5d7dd664e29ef95f6452f75c@squarespace.com
DTSTAMP:20190915T061326Z
DTSTART:20191103T033000Z
DTEND:20191103T113000Z
SUMMARY:Early Closure
END:VEVENT
END:VCALENDAR
