BEGIN:VCALENDAR
VERSION:2.0
PRODID:-//Squarespace Inc/Squarespace 6//v6//EN
BEGIN:VEVENT
UID:5d7dd62de29ef95f6452f612@squarespace.com
DTSTAMP:20190915T061238Z
DTSTART:20191102T033000Z
DTEND:20191102T113000Z
SUMMARY:Early Closure
END:VEVENT
END:VCALENDAR
