BEGIN:VCALENDAR
VERSION:2.0
PRODID:-//Squarespace Inc/Squarespace 6//v6//EN
BEGIN:VEVENT
UID:5d7dd7c3de5a2c25a53b6d72@squarespace.com
DTSTAMP:20190915T061919Z
DTSTART:20191221T033000Z
DTEND:20191221T113000Z
SUMMARY:Early Closure
END:VEVENT
END:VCALENDAR
